BEGIN:VCALENDAR
VERSION:2.0
PRODID:-//hacksw/handcal//NONSGML v1.0//EN
BEGIN:VEVENT
SUMMARY:TAE Brienon
UID:0a10c7a7-b31a-4c19-96d9-06ee2a62eca6
DTSTART:20260428T220000Z
DTEND:20260429T220000Z
LOCATION:Localisation   
CATEGORIES:Sportif
STATUS:
URL;VALUE=URI:https://www.comite-yonne-arc.com/evenements/2026/04/29/tae-brienon-2443152
END:VEVENT
END:VCALENDAR
