BEGIN:VCALENDAR
VERSION:2.0
PRODID:-//hacksw/handcal//NONSGML v1.0//EN
BEGIN:VEVENT
SUMMARY:TAE Brienon
UID:3faedadc-59cb-4a2f-8efb-f9d12c70d178
DTSTART:20260507T220000Z
DTEND:20260508T220000Z
LOCATION:Localisation   
CATEGORIES:Sportif
STATUS:
URL;VALUE=URI:https://www.comite-yonne-arc.com/evenements/2026/05/08/tae-brienon-2443153
END:VEVENT
END:VCALENDAR
