BEGIN:VCALENDAR
VERSION:2.0
PRODID:-//hacksw/handcal//NONSGML v1.0//EN
BEGIN:VEVENT
SUMMARY:Rencontre Jeunes Auxerre 1ere C
UID:39cfce33-da0d-4368-9516-d7754e1872c2
DTSTART:20260508T220000Z
DTEND:20260509T220000Z
LOCATION:Localisation   
CATEGORIES:Sportif
STATUS:
URL;VALUE=URI:https://www.comite-yonne-arc.com/evenements/2026/05/09/rencontre-jeunes-auxerre-1ere-c-2443155
END:VEVENT
END:VCALENDAR
