BEGIN:VCALENDAR
VERSION:2.0
PRODID:-//hacksw/handcal//NONSGML v1.0//EN
BEGIN:VEVENT
SUMMARY:Championnat Yonne TAEN Cadets d'Auxerre
UID:67cefdff-3c4d-4704-8362-f020bd268bb7
DTSTART:20260516T220000Z
DTEND:20260517T220000Z
LOCATION:Localisation   
CATEGORIES:Sportif
STATUS:
URL;VALUE=URI:https://www.comite-yonne-arc.com/evenements/2026/05/17/championnat-yonne-taen-cadets-dauxerre-2443582
END:VEVENT
END:VCALENDAR
